BEGIN:VCALENDAR
VERSION:2.0
PRODID:-//IRSE Australasian Section website - ECPv6.15.20//NONSGML v1.0//EN
CALSCALE:GREGORIAN
METHOD:PUBLISH
X-ORIGINAL-URL:https://irse.org.au
X-WR-CALDESC:Events for IRSE Australasian Section website
REFRESH-INTERVAL;VALUE=DURATION:PT1H
X-Robots-Tag:noindex
X-PUBLISHED-TTL:PT1H
BEGIN:VTIMEZONE
TZID:Australia/Melbourne
BEGIN:STANDARD
TZOFFSETFROM:+1100
TZOFFSETTO:+1000
TZNAME:AEST
DTSTART:20240406T160000
END:STANDARD
BEGIN:DAYLIGHT
TZOFFSETFROM:+1000
TZOFFSETTO:+1100
TZNAME:AEDT
DTSTART:20241005T160000
END:DAYLIGHT
BEGIN:STANDARD
TZOFFSETFROM:+1100
TZOFFSETTO:+1000
TZNAME:AEST
DTSTART:20250405T160000
END:STANDARD
BEGIN:DAYLIGHT
TZOFFSETFROM:+1000
TZOFFSETTO:+1100
TZNAME:AEDT
DTSTART:20251004T160000
END:DAYLIGHT
BEGIN:STANDARD
TZOFFSETFROM:+1100
TZOFFSETTO:+1000
TZNAME:AEST
DTSTART:20260404T160000
END:STANDARD
BEGIN:DAYLIGHT
TZOFFSETFROM:+1000
TZOFFSETTO:+1100
TZNAME:AEDT
DTSTART:20261003T160000
END:DAYLIGHT
END:VTIMEZONE
BEGIN:VEVENT
DTSTART;TZID=Australia/Melbourne:20250904T174500
DTEND;TZID=Australia/Melbourne:20250904T204500
DTSTAMP:20260425T051536
CREATED:20250812T235805Z
LAST-MODIFIED:20250818T021746Z
UID:10000027-1757007900-1757018700@irse.org.au
SUMMARY:IRSE/PWI/RTSA/RTAA Adelaide Local Joint Meeting
DESCRIPTION:Details of this event can be found here.
URL:https://irse.org.au/event/irse-pwi-rtsa-rtaa-adelaide-local-joint-meeting/
LOCATION:Bobbi’s Bar and Restaurant\, Hilton Hotel\, Corner South Road & Sir Donald Bradman Drive\, Hilton\, South Australia\, 5033\, Australia
CATEGORIES:South Australia
ATTACH;FMTTYPE=image/webp:https://irse.org.au/wp-content/uploads/2025/08/HiltonHome-B3.webp
ORGANIZER;CN="IRSE":MAILTO:secretary@irse.org.au
END:VEVENT
END:VCALENDAR